BEGIN:VCALENDAR
VERSION:2.0
PRODID:-//kyohatsu//JP
CALSCALE:GREGORIAN
BEGIN:VEVENT
DTSTART;VALUE=DATE:20260529
SUMMARY:セールス・イズ 2：ファクトファインディング　おもしろいほど成果が出る、究極の「問いの技術」
DESCRIPTION:今井 晶也 扶桑社
UID:9784594102975@kyohatsu.lb-product.com
END:VEVENT
END:VCALENDAR
