BEGIN:VCALENDAR
VERSION:2.0
PRODID:-//kyohatsu//JP
CALSCALE:GREGORIAN
BEGIN:VEVENT
DTSTART;VALUE=DATE:20260525
SUMMARY:童謡の百年 「心のふるさと」の誕生
DESCRIPTION:井手口　彰典 KADOKAWA
UID:9784044008932@kyohatsu.lb-product.com
END:VEVENT
END:VCALENDAR
