BEGIN:VCALENDAR
VERSION:2.0
PRODID:-//kyohatsu//JP
CALSCALE:GREGORIAN
BEGIN:VEVENT
DTSTART;VALUE=DATE:20260508
SUMMARY:真田武士心得〈三〉 柳生純情
DESCRIPTION:井原 忠政 文藝春秋
UID:9784167925048@kyohatsu.lb-product.com
END:VEVENT
END:VCALENDAR
