BEGIN:VCALENDAR
VERSION:2.0
PRODID:-//kyohatsu//JP
CALSCALE:GREGORIAN
BEGIN:VEVENT
DTSTART;VALUE=DATE:20260605
SUMMARY:スカーレット・レター
DESCRIPTION:五十嵐　貴久 実業之日本社
UID:9784408560137@kyohatsu.lb-product.com
END:VEVENT
END:VCALENDAR
