BEGIN:VCALENDAR
VERSION:2.0
PRODID:-//kyohatsu//JP
CALSCALE:GREGORIAN
BEGIN:VEVENT
DTSTART;VALUE=DATE:20260515
SUMMARY:聖書は読んでも、分からない
DESCRIPTION:二俣泉 日本橋出版
UID:9784434378744@kyohatsu.lb-product.com
END:VEVENT
END:VCALENDAR
