BEGIN:VCALENDAR
VERSION:2.0
PRODID:-//kyohatsu//JP
CALSCALE:GREGORIAN
BEGIN:VEVENT
DTSTART;VALUE=DATE:20260708
SUMMARY:WAVE (初回限定盤 CD＋Blu-ray)
DESCRIPTION:亀梨和也 (株)ストームレーベルズ
UID:4582515779115@kyohatsu.lb-product.com
END:VEVENT
BEGIN:VEVENT
DTSTART;VALUE=DATE:20260708
SUMMARY:WAVE (通常盤)
DESCRIPTION:亀梨和也 (株)ストームレーベルズ
UID:4582515779139@kyohatsu.lb-product.com
END:VEVENT
BEGIN:VEVENT
DTSTART;VALUE=DATE:20260708
SUMMARY:WAVE (初回限定盤(Blu-ray)＋通常盤セット)
DESCRIPTION:亀梨和也 (株)ストームレーベルズ
UID:2100014954356@kyohatsu.lb-product.com
END:VEVENT
BEGIN:VEVENT
DTSTART;VALUE=DATE:20260708
SUMMARY:WAVE (初回限定盤(DVD)＋通常盤セット)
DESCRIPTION:亀梨和也 (株)ストームレーベルズ
UID:2100014954363@kyohatsu.lb-product.com
END:VEVENT
BEGIN:VEVENT
DTSTART;VALUE=DATE:20260708
SUMMARY:WAVE (初回限定盤 CD＋DVD)
DESCRIPTION:亀梨和也 (株)ストームレーベルズ
UID:4582515779122@kyohatsu.lb-product.com
END:VEVENT
END:VCALENDAR
