BEGIN:VCALENDAR
VERSION:2.0
PRODID:-//kyohatsu//JP
CALSCALE:GREGORIAN
BEGIN:VEVENT
DTSTART;VALUE=DATE:20260609
SUMMARY:あの向日葵畑で、君とまた出会えたら
DESCRIPTION:九条蓮 徳間書店
UID:9784198951313@kyohatsu.lb-product.com
END:VEVENT
END:VCALENDAR
