BEGIN:VCALENDAR
VERSION:2.0
PRODID:-//kyohatsu//JP
CALSCALE:GREGORIAN
BEGIN:VEVENT
DTSTART;VALUE=DATE:20260527
SUMMARY:乙一デビュー30周年記念自選短編集1996-2026
DESCRIPTION:乙一 星海社
UID:9784065437124@kyohatsu.lb-product.com
END:VEVENT
END:VCALENDAR
