BEGIN:VCALENDAR
VERSION:2.0
PRODID:-//kyohatsu//JP
CALSCALE:GREGORIAN
BEGIN:VEVENT
DTSTART;VALUE=DATE:20260501
SUMMARY:僕の細胞が一つになってもあなたを愛し、忘れない
DESCRIPTION:久遠咲愛 文芸社
UID:9784286275857@kyohatsu.lb-product.com
END:VEVENT
END:VCALENDAR
