BEGIN:VCALENDAR
VERSION:2.0
PRODID:-//kyohatsu//JP
CALSCALE:GREGORIAN
BEGIN:VEVENT
DTSTART;VALUE=DATE:20260529
SUMMARY:ボクラノキセキ 34巻 特装版
DESCRIPTION:久米田 夏緒 一迅社
UID:9784758099127@kyohatsu.lb-product.com
END:VEVENT
BEGIN:VEVENT
DTSTART;VALUE=DATE:20260529
SUMMARY:ボクラノキセキ 34巻
DESCRIPTION:久米田 夏緒 一迅社
UID:9784758099110@kyohatsu.lb-product.com
END:VEVENT
END:VCALENDAR
