BEGIN:VCALENDAR
VERSION:2.0
PRODID:-//kyohatsu//JP
CALSCALE:GREGORIAN
BEGIN:VEVENT
DTSTART;VALUE=DATE:20260623
SUMMARY:陸上自衛隊特務諜報機関　別班の犬（10）
DESCRIPTION:久慈 進之介 講談社
UID:9784065439043@kyohatsu.lb-product.com
END:VEVENT
END:VCALENDAR
