BEGIN:VCALENDAR
VERSION:2.0
PRODID:-//kyohatsu//JP
CALSCALE:GREGORIAN
BEGIN:VEVENT
DTSTART;VALUE=DATE:20260625
SUMMARY:拝啓見知らぬ旦那様、離婚していただきますVI（11）
DESCRIPTION:久川　航璃 KADOKAWA
UID:9784049522662@kyohatsu.lb-product.com
END:VEVENT
END:VCALENDAR
