BEGIN:VCALENDAR
VERSION:2.0
PRODID:-//kyohatsu//JP
CALSCALE:GREGORIAN
BEGIN:VEVENT
DTSTART;VALUE=DATE:20260610
SUMMARY:医人の夢
DESCRIPTION:久坂部 羊 筑摩書房
UID:9784480685544@kyohatsu.lb-product.com
END:VEVENT
END:VCALENDAR
