BEGIN:VCALENDAR
VERSION:2.0
PRODID:-//kyohatsu//JP
CALSCALE:GREGORIAN
BEGIN:VEVENT
DTSTART;VALUE=DATE:20260525
SUMMARY:Quantum Nomad - NODE 0：量子漂流者たち
DESCRIPTION:久保田ようじ KUBOTA（Pub．）Office
UID:9784911366394@kyohatsu.lb-product.com
END:VEVENT
END:VCALENDAR
