BEGIN:VCALENDAR
VERSION:2.0
PRODID:-//kyohatsu//JP
CALSCALE:GREGORIAN
BEGIN:VEVENT
DTSTART;VALUE=DATE:20260514
SUMMARY:TAKE 夢を追いかけるサッカー・キッズの育て方
DESCRIPTION:久保 建史 文藝春秋
UID:9784163921082@kyohatsu.lb-product.com
END:VEVENT
END:VCALENDAR
