BEGIN:VCALENDAR
VERSION:2.0
PRODID:-//kyohatsu//JP
CALSCALE:GREGORIAN
BEGIN:VEVENT
DTSTART;VALUE=DATE:20260529
SUMMARY:まなざし珠子の自由研究（1）
DESCRIPTION:乃木坂太郎 小学館
UID:9784098640133@kyohatsu.lb-product.com
END:VEVENT
END:VCALENDAR
