BEGIN:VCALENDAR
VERSION:2.0
PRODID:-//kyohatsu//JP
CALSCALE:GREGORIAN
BEGIN:VEVENT
DTSTART;VALUE=DATE:20260601
SUMMARY:ぜんぶ欲しがりな君のせい
DESCRIPTION:丹良たまこ ジーオーティー
UID:9784823610721@kyohatsu.lb-product.com
END:VEVENT
END:VCALENDAR
