BEGIN:VCALENDAR
VERSION:2.0
PRODID:-//kyohatsu//JP
CALSCALE:GREGORIAN
BEGIN:VEVENT
DTSTART;VALUE=DATE:20260525
SUMMARY:ポケット版 戦艦長門・陸奥写真集
DESCRIPTION:丸編集部 潮書房光人新社
UID:9784769834427@kyohatsu.lb-product.com
END:VEVENT
END:VCALENDAR
