BEGIN:VCALENDAR
VERSION:2.0
PRODID:-//kyohatsu//JP
CALSCALE:GREGORIAN
BEGIN:VEVENT
DTSTART;VALUE=DATE:20260522
SUMMARY:覚せい剤中毒からの生還
DESCRIPTION:丸山陽子 青山ライフ出版
UID:9784434377006@kyohatsu.lb-product.com
END:VEVENT
END:VCALENDAR
