BEGIN:VCALENDAR
VERSION:2.0
PRODID:-//kyohatsu//JP
CALSCALE:GREGORIAN
BEGIN:VEVENT
DTSTART;VALUE=DATE:20260501
SUMMARY:陽子
DESCRIPTION:中野鉱一 文芸社
UID:9784286276038@kyohatsu.lb-product.com
END:VEVENT
END:VCALENDAR
