BEGIN:VCALENDAR
VERSION:2.0
PRODID:-//kyohatsu//JP
CALSCALE:GREGORIAN
BEGIN:VEVENT
DTSTART;VALUE=DATE:20260525
SUMMARY:J.S.バッハ:ゴルトベルク変奏曲
DESCRIPTION:中野振一郎 マイスター・ミュージック
UID:4944099455432@kyohatsu.lb-product.com
END:VEVENT
END:VCALENDAR
