BEGIN:VCALENDAR
VERSION:2.0
PRODID:-//kyohatsu//JP
CALSCALE:GREGORIAN
BEGIN:VEVENT
DTSTART;VALUE=DATE:20260527
SUMMARY:新版　空気を読む脳
DESCRIPTION:中野 信子 講談社
UID:9784065433621@kyohatsu.lb-product.com
END:VEVENT
END:VCALENDAR
