BEGIN:VCALENDAR
VERSION:2.0
PRODID:-//kyohatsu//JP
CALSCALE:GREGORIAN
BEGIN:VEVENT
DTSTART;VALUE=DATE:20260513
SUMMARY:光を胚胎する
DESCRIPTION:中澤 美喜子 鳥影社
UID:9784867821756@kyohatsu.lb-product.com
END:VEVENT
END:VCALENDAR
