BEGIN:VCALENDAR
VERSION:2.0
PRODID:-//kyohatsu//JP
CALSCALE:GREGORIAN
BEGIN:VEVENT
DTSTART;VALUE=DATE:20260624
SUMMARY:中森明菜 80's Best Performance on NHK(完全生産限定BOX)【Blu-ray】
DESCRIPTION:中森明菜 (株)ワーナーミュージック・ジャパン
UID:4943674442973@kyohatsu.lb-product.com
END:VEVENT
BEGIN:VEVENT
DTSTART;VALUE=DATE:20260624
SUMMARY:中森明菜 80's Best Performance on NHK(通常盤BOX)【Blu-ray】
DESCRIPTION:中森明菜 (株)ワーナーミュージック・ジャパン
UID:4943674442980@kyohatsu.lb-product.com
END:VEVENT
BEGIN:VEVENT
DTSTART;VALUE=DATE:20260624
SUMMARY:【楽天ブックス限定先着特典】中森明菜 80's Best Performance on NHK(完全生産限定BOX)【Blu-ray】(中森明菜オリジナル・コンパクトミラー)
DESCRIPTION:中森明菜 (株)ワーナーミュージック・ジャパン
UID:2100014953953@kyohatsu.lb-product.com
END:VEVENT
BEGIN:VEVENT
DTSTART;VALUE=DATE:20260624
SUMMARY:【楽天ブックス限定先着特典】中森明菜 80's Best Performance on NHK(通常盤BOX)【Blu-ray】(中森明菜オリジナル・コンパクトミラー)
DESCRIPTION:中森明菜 (株)ワーナーミュージック・ジャパン
UID:2100014953960@kyohatsu.lb-product.com
END:VEVENT
END:VCALENDAR
