BEGIN:VCALENDAR
VERSION:2.0
PRODID:-//kyohatsu//JP
CALSCALE:GREGORIAN
BEGIN:VEVENT
DTSTART;VALUE=DATE:20260527
SUMMARY:カミュの歌鳥 花譜小説集
DESCRIPTION:中村　紬 KADOKAWA
UID:9784041172193@kyohatsu.lb-product.com
END:VEVENT
END:VCALENDAR
