BEGIN:VCALENDAR
VERSION:2.0
PRODID:-//kyohatsu//JP
CALSCALE:GREGORIAN
BEGIN:VEVENT
DTSTART;VALUE=DATE:20260529
SUMMARY:北条時広家集
DESCRIPTION:中川博夫 勉誠社
UID:9784585390602@kyohatsu.lb-product.com
END:VEVENT
END:VCALENDAR
