BEGIN:VCALENDAR
VERSION:2.0
PRODID:-//kyohatsu//JP
CALSCALE:GREGORIAN
BEGIN:VEVENT
DTSTART;VALUE=DATE:20260508
SUMMARY:グレイトライフ2
DESCRIPTION:中岡俊明 風詠社
UID:9784434376856@kyohatsu.lb-product.com
END:VEVENT
END:VCALENDAR
