BEGIN:VCALENDAR
VERSION:2.0
PRODID:-//kyohatsu//JP
CALSCALE:GREGORIAN
BEGIN:VEVENT
DTSTART;VALUE=DATE:20260610
SUMMARY:最後の外科医2 ブラックアウト・イブ
DESCRIPTION:中山 祐次郎 文藝春秋
UID:9784167925178@kyohatsu.lb-product.com
END:VEVENT
END:VCALENDAR
