BEGIN:VCALENDAR
VERSION:2.0
PRODID:-//kyohatsu//JP
CALSCALE:GREGORIAN
BEGIN:VEVENT
DTSTART;VALUE=DATE:20260428
SUMMARY:呪血の花嫁
DESCRIPTION:中小路かほ スターツ出版
UID:9784813719212@kyohatsu.lb-product.com
END:VEVENT
END:VCALENDAR
