BEGIN:VCALENDAR
VERSION:2.0
PRODID:-//kyohatsu//JP
CALSCALE:GREGORIAN
BEGIN:VEVENT
DTSTART;VALUE=DATE:20260518
SUMMARY:現代ギリシャ詩選　新装版
DESCRIPTION:中井久夫 みすず書房
UID:9784622098607@kyohatsu.lb-product.com
END:VEVENT
END:VCALENDAR
