BEGIN:VCALENDAR
VERSION:2.0
PRODID:-//kyohatsu//JP
CALSCALE:GREGORIAN
BEGIN:VEVENT
DTSTART;VALUE=DATE:20260527
SUMMARY:感傷は僕の背骨
DESCRIPTION:世田谷ピンポンズ 本の雑誌社
UID:9784860116187@kyohatsu.lb-product.com
END:VEVENT
BEGIN:VEVENT
DTSTART;VALUE=DATE:20260527
SUMMARY:都会なんて夢ばかり
DESCRIPTION:世田谷ピンポンズ 本の雑誌社
UID:9784860116170@kyohatsu.lb-product.com
END:VEVENT
END:VCALENDAR
