BEGIN:VCALENDAR
VERSION:2.0
PRODID:-//kyohatsu//JP
CALSCALE:GREGORIAN
BEGIN:VEVENT
DTSTART;VALUE=DATE:20260610
SUMMARY:ヒトリジメクライシス
DESCRIPTION:不治ノ マンシン リブレ
UID:9784799778258@kyohatsu.lb-product.com
END:VEVENT
END:VCALENDAR
