BEGIN:VCALENDAR
VERSION:2.0
PRODID:-//kyohatsu//JP
CALSCALE:GREGORIAN
BEGIN:VEVENT
DTSTART;VALUE=DATE:20260715
SUMMARY:Coral Day
DESCRIPTION:下町ノ夏 Shitamachi no Natsu
UID:4526180753575@kyohatsu.lb-product.com
END:VEVENT
BEGIN:VEVENT
DTSTART;VALUE=DATE:20260715
SUMMARY:Coral Day
DESCRIPTION:下町ノ夏 Shitamachi no Natsu
UID:4526180753568@kyohatsu.lb-product.com
END:VEVENT
END:VCALENDAR
