BEGIN:VCALENDAR
VERSION:2.0
PRODID:-//kyohatsu//JP
CALSCALE:GREGORIAN
BEGIN:VEVENT
DTSTART;VALUE=DATE:20260502
SUMMARY:命を選ぶ　遺伝病の運命に抗ったある女性の物語
DESCRIPTION:下山 進 祥伝社
UID:9784396618698@kyohatsu.lb-product.com
END:VEVENT
END:VCALENDAR
