BEGIN:VCALENDAR
VERSION:2.0
PRODID:-//kyohatsu//JP
CALSCALE:GREGORIAN
BEGIN:VEVENT
DTSTART;VALUE=DATE:20260528
SUMMARY:女遊び
DESCRIPTION:上野　千鶴子 実業之日本社
UID:9784408651934@kyohatsu.lb-product.com
END:VEVENT
END:VCALENDAR
