BEGIN:VCALENDAR
VERSION:2.0
PRODID:-//kyohatsu//JP
CALSCALE:GREGORIAN
BEGIN:VEVENT
DTSTART;VALUE=DATE:20260512
SUMMARY:お髷番承り候三　血族の澱　〈新装版〉
DESCRIPTION:上田秀人 徳間書店
UID:9784198951269@kyohatsu.lb-product.com
END:VEVENT
BEGIN:VEVENT
DTSTART;VALUE=DATE:20260512
SUMMARY:お髷番承り候四　傾国の策　〈新装版〉
DESCRIPTION:上田秀人 徳間書店
UID:9784198951276@kyohatsu.lb-product.com
END:VEVENT
END:VCALENDAR
