BEGIN:VCALENDAR
VERSION:2.0
PRODID:-//kyohatsu//JP
CALSCALE:GREGORIAN
BEGIN:VEVENT
DTSTART;VALUE=DATE:20260527
SUMMARY:料理たのしくなる相談室
DESCRIPTION:上田淳子 光文社
UID:9784334109554@kyohatsu.lb-product.com
END:VEVENT
END:VCALENDAR
