BEGIN:VCALENDAR
VERSION:2.0
PRODID:-//kyohatsu//JP
CALSCALE:GREGORIAN
BEGIN:VEVENT
DTSTART;VALUE=DATE:20260610
SUMMARY:泥棒は二度パンを焼く
DESCRIPTION:上田未来 双葉社
UID:9784575529319@kyohatsu.lb-product.com
END:VEVENT
END:VCALENDAR
