BEGIN:VCALENDAR
VERSION:2.0
PRODID:-//kyohatsu//JP
CALSCALE:GREGORIAN
BEGIN:VEVENT
DTSTART;VALUE=DATE:20260612
SUMMARY:海自とおかん（8）
DESCRIPTION:上田 美和 講談社
UID:9784065438589@kyohatsu.lb-product.com
END:VEVENT
END:VCALENDAR
