BEGIN:VCALENDAR
VERSION:2.0
PRODID:-//kyohatsu//JP
CALSCALE:GREGORIAN
BEGIN:VEVENT
DTSTART;VALUE=DATE:20260521
SUMMARY:廃ゲーマー刑事
DESCRIPTION:上條　つづる 早川書房
UID:9784150316198@kyohatsu.lb-product.com
END:VEVENT
END:VCALENDAR
