BEGIN:VCALENDAR
VERSION:2.0
PRODID:-//kyohatsu//JP
CALSCALE:GREGORIAN
BEGIN:VEVENT
DTSTART;VALUE=DATE:20260508
SUMMARY:原典訳 マハーバーラタ（7）
DESCRIPTION:上村 勝彦 法藏館
UID:9784831827197@kyohatsu.lb-product.com
END:VEVENT
END:VCALENDAR
