BEGIN:VCALENDAR
VERSION:2.0
PRODID:-//kyohatsu//JP
CALSCALE:GREGORIAN
BEGIN:VEVENT
DTSTART;VALUE=DATE:20260526
SUMMARY:高市政権は日本経済を救えるか
DESCRIPTION:上念司 扶桑社
UID:9784594103019@kyohatsu.lb-product.com
END:VEVENT
END:VCALENDAR
