BEGIN:VCALENDAR
VERSION:2.0
PRODID:-//kyohatsu//JP
CALSCALE:GREGORIAN
BEGIN:VEVENT
DTSTART;VALUE=DATE:20260526
SUMMARY:本音のチカラ - 人と組織を動かす対話力 -
DESCRIPTION:上原 正光 ワニプラス
UID:9784847076763@kyohatsu.lb-product.com
END:VEVENT
END:VCALENDAR
