BEGIN:VCALENDAR
VERSION:2.0
PRODID:-//kyohatsu//JP
CALSCALE:GREGORIAN
BEGIN:VEVENT
DTSTART;VALUE=DATE:20260609
SUMMARY:薫る花は凛と咲く（23）
DESCRIPTION:三香見 サカ 講談社
UID:9784065439104@kyohatsu.lb-product.com
END:VEVENT
END:VCALENDAR
