BEGIN:VCALENDAR
VERSION:2.0
PRODID:-//kyohatsu//JP
CALSCALE:GREGORIAN
BEGIN:VEVENT
DTSTART;VALUE=DATE:20260618
SUMMARY:ミナミザスーパーエボリューション 3
DESCRIPTION:三都 慎司 集英社
UID:9784088942636@kyohatsu.lb-product.com
END:VEVENT
END:VCALENDAR
