BEGIN:VCALENDAR
VERSION:2.0
PRODID:-//kyohatsu//JP
CALSCALE:GREGORIAN
BEGIN:VEVENT
DTSTART;VALUE=DATE:20260601
SUMMARY:冷遇令嬢の才は敵国で花ひらく2〜実家侯爵家で壊滅的被害？ 自分たちでどうにかしてください〜
DESCRIPTION:三矢さくら TOブックス
UID:9784868540182@kyohatsu.lb-product.com
END:VEVENT
END:VCALENDAR
