BEGIN:VCALENDAR
VERSION:2.0
PRODID:-//kyohatsu//JP
CALSCALE:GREGORIAN
BEGIN:VEVENT
DTSTART;VALUE=DATE:20260526
SUMMARY:限定偽婚〜1年間の夫婦〜（1）
DESCRIPTION:三浦 えりか 小学館
UID:9784098734030@kyohatsu.lb-product.com
END:VEVENT
END:VCALENDAR
