BEGIN:VCALENDAR
VERSION:2.0
PRODID:-//kyohatsu//JP
CALSCALE:GREGORIAN
BEGIN:VEVENT
DTSTART;VALUE=DATE:20260509
SUMMARY:黒蜥蜴
DESCRIPTION:三島由紀夫 東京創元社
UID:9784488404314@kyohatsu.lb-product.com
END:VEVENT
END:VCALENDAR
