BEGIN:VCALENDAR
VERSION:2.0
PRODID:-//kyohatsu//JP
CALSCALE:GREGORIAN
BEGIN:VEVENT
DTSTART;VALUE=DATE:20260615
SUMMARY:犬のうんちとわかりあう
DESCRIPTION:三好 愛 ミシマ社
UID:9784911226346@kyohatsu.lb-product.com
END:VEVENT
END:VCALENDAR
