BEGIN:VCALENDAR
VERSION:2.0
PRODID:-//kyohatsu//JP
CALSCALE:GREGORIAN
BEGIN:VEVENT
DTSTART;VALUE=DATE:20260623
SUMMARY:宙飛ぶバイオリン（4）
DESCRIPTION:三原 和人 講談社
UID:9784065439449@kyohatsu.lb-product.com
END:VEVENT
END:VCALENDAR
